BEGIN:VCALENDAR
VERSION:2.0
PRODID:-//Big Cottonwood Stake - ECPv6.15.11//NONSGML v1.0//EN
CALSCALE:GREGORIAN
METHOD:PUBLISH
X-WR-CALNAME:Big Cottonwood Stake
X-ORIGINAL-URL:https://bigcottonwoodstake.com
X-WR-CALDESC:Events for Big Cottonwood Stake
REFRESH-INTERVAL;VALUE=DURATION:PT1H
X-Robots-Tag:noindex
X-PUBLISHED-TTL:PT1H
BEGIN:VTIMEZONE
TZID:America/Denver
BEGIN:DAYLIGHT
TZOFFSETFROM:-0700
TZOFFSETTO:-0600
TZNAME:MDT
DTSTART:20220313T090000
END:DAYLIGHT
BEGIN:STANDARD
TZOFFSETFROM:-0600
TZOFFSETTO:-0700
TZNAME:MST
DTSTART:20221106T080000
END:STANDARD
BEGIN:DAYLIGHT
TZOFFSETFROM:-0700
TZOFFSETTO:-0600
TZNAME:MDT
DTSTART:20230312T090000
END:DAYLIGHT
BEGIN:STANDARD
TZOFFSETFROM:-0600
TZOFFSETTO:-0700
TZNAME:MST
DTSTART:20231105T080000
END:STANDARD
BEGIN:DAYLIGHT
TZOFFSETFROM:-0700
TZOFFSETTO:-0600
TZNAME:MDT
DTSTART:20240310T090000
END:DAYLIGHT
BEGIN:STANDARD
TZOFFSETFROM:-0600
TZOFFSETTO:-0700
TZNAME:MST
DTSTART:20241103T080000
END:STANDARD
END:VTIMEZONE
BEGIN:VTIMEZONE
TZID:UTC
BEGIN:STANDARD
TZOFFSETFROM:+0000
TZOFFSETTO:+0000
TZNAME:UTC
DTSTART:20220101T000000
END:STANDARD
END:VTIMEZONE
BEGIN:VEVENT
DTSTART;TZID=America/Denver:20230409T100000
DTEND;TZID=America/Denver:20230409T120000
DTSTAMP:20260425T201853
CREATED:20230306T090228Z
LAST-MODIFIED:20230306T090228Z
UID:3503-1681034400-1681041600@bigcottonwoodstake.com
SUMMARY:Easter Sunday
DESCRIPTION:Big Cottonwood Stake invites you\, your neighbors and friends to join us for an all-Stake special musical celebration with an Easter narrative. Easter Sunday April 9th at 10:00 A.M. at the Big Cottonwood Stake Center. No other meetings will be held that day in any wards. Limited Zoom access available. Please contact your Bishop for more details.
URL:https://bigcottonwoodstake.com/event/easter-sunday/
LOCATION:Stake Center\, 1750 Spring Lane\, Holladay\, UT
CATEGORIES:Stake Events
ATTACH;FMTTYPE=image/jpeg:https://bigcottonwoodstake.com/wp-content/uploads/2023/03/easter_2023.jpg
END:VEVENT
BEGIN:VEVENT
DTSTART;TZID=UTC:20230416T183000
DTEND;TZID=UTC:20230416T193000
DTSTAMP:20260425T201853
CREATED:20230310T100305Z
LAST-MODIFIED:20230310T100909Z
UID:3529-1681669800-1681673400@bigcottonwoodstake.com
SUMMARY:Women at the Well
DESCRIPTION:A musical fireside about the women in the New Testament. April 16\, 2023 @6:30 PM. 1830 East 6400 South\, Murray\, UT 84121. Come enjoy an uplifting evening of music and testimony about the life of Jesus Christ through the eyes of the women He influenced.
URL:https://bigcottonwoodstake.com/event/women-at-the-well/
LOCATION:1830 East 6400 South Murray\, UT
CATEGORIES:Stake Events,Youth Events
ATTACH;FMTTYPE=image/jpeg:https://bigcottonwoodstake.com/wp-content/uploads/2023/03/Women-at-the-well.jpg
END:VEVENT
BEGIN:VEVENT
DTSTART;TZID=UTC:20230427T080000
DTEND;TZID=UTC:20230427T170000
DTSTAMP:20260425T201853
CREATED:20230321T094245Z
LAST-MODIFIED:20230321T094245Z
UID:3571-1682582400-1682614800@bigcottonwoodstake.com
SUMMARY:Rising Generation Devotional
DESCRIPTION:Guest speaker Daniel Prestwich\, Ensign College institute instructor. Guest speaker Elder Bruce Boucher\, Area 70. Thursday\, April 27\, 2023 at 7:00 pm. 4395 South Albright Dr\, Holladay\, Ut 84124. More information available at: www.tabernacleutah.com
URL:https://bigcottonwoodstake.com/event/rising-generation-devotional/
LOCATION:4395 South Albright Dr\, Holladay
CATEGORIES:Stake Events
ATTACH;FMTTYPE=image/jpeg:https://bigcottonwoodstake.com/wp-content/uploads/2023/03/tabernacle.jpg
END:VEVENT
END:VCALENDAR