BEGIN:VCALENDAR
VERSION:2.0
PRODID:-//Big Cottonwood Stake - ECPv6.15.11//NONSGML v1.0//EN
CALSCALE:GREGORIAN
METHOD:PUBLISH
X-ORIGINAL-URL:https://bigcottonwoodstake.com
X-WR-CALDESC:Events for Big Cottonwood Stake
REFRESH-INTERVAL;VALUE=DURATION:PT1H
X-Robots-Tag:noindex
X-PUBLISHED-TTL:PT1H
BEGIN:VTIMEZONE
TZID:America/Denver
BEGIN:DAYLIGHT
TZOFFSETFROM:-0700
TZOFFSETTO:-0600
TZNAME:MDT
DTSTART:20220313T090000
END:DAYLIGHT
BEGIN:STANDARD
TZOFFSETFROM:-0600
TZOFFSETTO:-0700
TZNAME:MST
DTSTART:20221106T080000
END:STANDARD
BEGIN:DAYLIGHT
TZOFFSETFROM:-0700
TZOFFSETTO:-0600
TZNAME:MDT
DTSTART:20230312T090000
END:DAYLIGHT
BEGIN:STANDARD
TZOFFSETFROM:-0600
TZOFFSETTO:-0700
TZNAME:MST
DTSTART:20231105T080000
END:STANDARD
BEGIN:DAYLIGHT
TZOFFSETFROM:-0700
TZOFFSETTO:-0600
TZNAME:MDT
DTSTART:20240310T090000
END:DAYLIGHT
BEGIN:STANDARD
TZOFFSETFROM:-0600
TZOFFSETTO:-0700
TZNAME:MST
DTSTART:20241103T080000
END:STANDARD
END:VTIMEZONE
BEGIN:VEVENT
DTSTART;TZID=America/Denver:20230906T180000
DTEND;TZID=America/Denver:20230906T200000
DTSTAMP:20260425T130903
CREATED:20230820T153208Z
LAST-MODIFIED:20230830T234103Z
UID:4003-1694023200-1694030400@bigcottonwoodstake.com
SUMMARY:Back to School Social
DESCRIPTION:Big Cottonwood Stake youth back to school social. September 6\, 2023 at 6:00 PM. \nVan der Beek Residence: 1734 E Spring Lane. \nDinner\, swimming\, and pickle ball. \nPark on west side of stake center and enter through side gate.
URL:https://bigcottonwoodstake.com/event/back-to-school-social/
CATEGORIES:Stake Events,Youth Events
ATTACH;FMTTYPE=image/jpeg:https://bigcottonwoodstake.com/wp-content/uploads/2023/08/IMG_9293.jpg
END:VEVENT
BEGIN:VEVENT
DTSTART;TZID=America/Denver:20230924T190000
DTEND;TZID=America/Denver:20230924T210000
DTSTAMP:20260425T130903
CREATED:20230910T193632Z
LAST-MODIFIED:20230910T193632Z
UID:4011-1695582000-1695589200@bigcottonwoodstake.com
SUMMARY:Big Cottonwood Stake Speaker Series
DESCRIPTION:162 Years: Beaches\, Mountains and Deserts with special guests Joseph Foss Cowley\, Jr. & Virginia Hinckley Pearce Cowley. Sunday\, Sept 24th at 7:00 PM. Newlyweds of 5 years\, Joe and Virginia will share their life journeys. Their journey involves a deep commitment to their faith\, the community and the challenges and joys of raising families. Enjoy in person at the Cottonwood 2nd/14th Ward building on Donelson Lane: 2080 E 5165 S. Watch at http://zoom.us with meeting ID: 937 2669 7090
URL:https://bigcottonwoodstake.com/event/big-cottonwood-stake-speaker-series-2/
LOCATION:2080 E 5165 S
CATEGORIES:Stake Events
ATTACH;FMTTYPE=image/jpeg:https://bigcottonwoodstake.com/wp-content/uploads/2023/09/IMG_2889.jpg
END:VEVENT
END:VCALENDAR