BEGIN:VCALENDAR
VERSION:2.0
PRODID:-//Big Cottonwood Stake - ECPv6.15.11//NONSGML v1.0//EN
CALSCALE:GREGORIAN
METHOD:PUBLISH
X-ORIGINAL-URL:https://bigcottonwoodstake.com
X-WR-CALDESC:Events for Big Cottonwood Stake
REFRESH-INTERVAL;VALUE=DURATION:PT1H
X-Robots-Tag:noindex
X-PUBLISHED-TTL:PT1H
BEGIN:VTIMEZONE
TZID:America/Denver
BEGIN:DAYLIGHT
TZOFFSETFROM:-0700
TZOFFSETTO:-0600
TZNAME:MDT
DTSTART:20240310T090000
END:DAYLIGHT
BEGIN:STANDARD
TZOFFSETFROM:-0600
TZOFFSETTO:-0700
TZNAME:MST
DTSTART:20241103T080000
END:STANDARD
BEGIN:DAYLIGHT
TZOFFSETFROM:-0700
TZOFFSETTO:-0600
TZNAME:MDT
DTSTART:20250309T090000
END:DAYLIGHT
BEGIN:STANDARD
TZOFFSETFROM:-0600
TZOFFSETTO:-0700
TZNAME:MST
DTSTART:20251102T080000
END:STANDARD
BEGIN:DAYLIGHT
TZOFFSETFROM:-0700
TZOFFSETTO:-0600
TZNAME:MDT
DTSTART:20260308T090000
END:DAYLIGHT
BEGIN:STANDARD
TZOFFSETFROM:-0600
TZOFFSETTO:-0700
TZNAME:MST
DTSTART:20261101T080000
END:STANDARD
END:VTIMEZONE
BEGIN:VEVENT
DTSTART;TZID=America/Denver:20250518T180000
DTEND;TZID=America/Denver:20250518T190000
DTSTAMP:20260424T064938
CREATED:20250207T032746Z
LAST-MODIFIED:20250322T030835Z
UID:4354-1747591200-1747594800@bigcottonwoodstake.com
SUMMARY:Seminary Graduation & Recognition 2025
DESCRIPTION:Cottonwood Creek\, Big Cottonwood\, and Cottonwood Stakes Seminary Graduation & Recognition 2025. Sunday\, May 18\, 2025. 6:00 PM. Cottonwood Stake Center. 1830 E 6400 S. Church Dress | Refreshments to follow | For seminary students\, families\, and friends.
URL:https://bigcottonwoodstake.com/event/seminary-graduation-recognition-2025/
CATEGORIES:Stake Events
ATTACH;FMTTYPE=image/jpeg:https://bigcottonwoodstake.com/wp-content/uploads/2025/02/Seminary-Graduation-Invite-3-1.jpg
END:VEVENT
BEGIN:VEVENT
DTSTART;VALUE=DATE:20250531
DTEND;VALUE=DATE:20250601
DTSTAMP:20260424T064938
CREATED:20250510T024014Z
LAST-MODIFIED:20250510T024202Z
UID:4394-1748649600-1748735999@bigcottonwoodstake.com
SUMMARY:Neighborhood Day of Service
DESCRIPTION:Join Us for a Fun Day of Neighborhood Service & Friendship. May 31\, 2025. 8:00 AM – 9:30 AM Chuck Wagon Breakfast. 9:45 AM Service Kick Off & Assignments. 10:00 AM – 3:00 PM Carry out service.
URL:https://bigcottonwoodstake.com/event/neighborhood-day-of-service-3/
CATEGORIES:Stake Events
ATTACH;FMTTYPE=image/jpeg:https://bigcottonwoodstake.com/wp-content/uploads/2025/05/2025-Day-of-Service-Flyer-scaled.jpeg
END:VEVENT
END:VCALENDAR