BEGIN:VCALENDAR
VERSION:2.0
PRODID:-//Big Cottonwood Stake - ECPv6.15.11//NONSGML v1.0//EN
CALSCALE:GREGORIAN
METHOD:PUBLISH
X-ORIGINAL-URL:https://bigcottonwoodstake.com
X-WR-CALDESC:Events for Big Cottonwood Stake
REFRESH-INTERVAL;VALUE=DURATION:PT1H
X-Robots-Tag:noindex
X-PUBLISHED-TTL:PT1H
BEGIN:VTIMEZONE
TZID:America/Denver
BEGIN:DAYLIGHT
TZOFFSETFROM:-0700
TZOFFSETTO:-0600
TZNAME:MDT
DTSTART:20220313T090000
END:DAYLIGHT
BEGIN:STANDARD
TZOFFSETFROM:-0600
TZOFFSETTO:-0700
TZNAME:MST
DTSTART:20221106T080000
END:STANDARD
BEGIN:DAYLIGHT
TZOFFSETFROM:-0700
TZOFFSETTO:-0600
TZNAME:MDT
DTSTART:20230312T090000
END:DAYLIGHT
BEGIN:STANDARD
TZOFFSETFROM:-0600
TZOFFSETTO:-0700
TZNAME:MST
DTSTART:20231105T080000
END:STANDARD
BEGIN:DAYLIGHT
TZOFFSETFROM:-0700
TZOFFSETTO:-0600
TZNAME:MDT
DTSTART:20240310T090000
END:DAYLIGHT
BEGIN:STANDARD
TZOFFSETFROM:-0600
TZOFFSETTO:-0700
TZNAME:MST
DTSTART:20241103T080000
END:STANDARD
END:VTIMEZONE
BEGIN:VTIMEZONE
TZID:UTC
BEGIN:STANDARD
TZOFFSETFROM:+0000
TZOFFSETTO:+0000
TZNAME:UTC
DTSTART:20220101T000000
END:STANDARD
END:VTIMEZONE
BEGIN:VTIMEZONE
TZID:UTC
BEGIN:STANDARD
TZOFFSETFROM:+0000
TZOFFSETTO:+0000
TZNAME:UTC
DTSTART:20220101T000000
END:STANDARD
END:VTIMEZONE
BEGIN:VEVENT
DTSTART;VALUE=DATE:20230621
DTEND;VALUE=DATE:20230625
DTSTAMP:20260423T153019
CREATED:20230522T100053Z
LAST-MODIFIED:20230523T191438Z
UID:3352-1687305600-1687651199@bigcottonwoodstake.com
SUMMARY:Pioneer Trek
DESCRIPTION:We’re excited for this year’s Pioneer Trek at Martin’s Cove in Wyoming! This year’s theme is: Trek to the temple\, trek to Zion. This event will be for all youth turning 12 this year and older. Check the calendar for all activities leading up to this event. \n \n  \nPermission Forms \nTREK-parental-permission-medical-release.pdf \n  \nFinding An Ancestor \nPioneer-Trek-Finding-An-Ancestor-2.docx
URL:https://bigcottonwoodstake.com/event/pioneer-trek/
CATEGORIES:Stake Events,Youth Events
ATTACH;FMTTYPE=image/jpeg:https://bigcottonwoodstake.com/wp-content/uploads/2023/01/trek_flyer.jpg
ORGANIZER;CN="Rob and Etienne Brasher":MAILTO:robjbrasher@gmail.com
END:VEVENT
BEGIN:VEVENT
DTSTART;TZID=America/Denver:20230524T190000
DTEND;TZID=America/Denver:20230524T200000
DTSTAMP:20260423T153019
CREATED:20230521T043839Z
LAST-MODIFIED:20230523T191340Z
UID:3861-1684954800-1684958400@bigcottonwoodstake.com
SUMMARY:Trek Square Dancing
DESCRIPTION:Wed May 24th\, 7:00 PM at the Stake Center. Come get your groove on with Chick-Fil-A nuggets and a little Trail Mix.
URL:https://bigcottonwoodstake.com/event/trek-square-dancing/
CATEGORIES:Stake Events,Youth Events
ATTACH;FMTTYPE=image/jpeg:https://bigcottonwoodstake.com/wp-content/uploads/2023/05/trek-square-dancing.jpg
END:VEVENT
BEGIN:VEVENT
DTSTART;TZID=America/Denver:20230521T190000
DTEND;TZID=America/Denver:20230521T200000
DTSTAMP:20260423T153019
CREATED:20230501T213035Z
LAST-MODIFIED:20230502T201708Z
UID:3827-1684695600-1684699200@bigcottonwoodstake.com
SUMMARY:Seminary Graduation
DESCRIPTION:South Cottonwood\, Little Cottonwood\, Big Cottonwood\, and Cottonwood Stakes Seminary graduation & recognition. Sunday\, May 21st\, 7 PM. \nCottonwood Stake Center 1830 E 6400 S \nChurch Dress \nRefreshments to follow \nFor seminary students and their families
URL:https://bigcottonwoodstake.com/event/seminary-graduation/
CATEGORIES:Stake Events,Youth Events
ATTACH;FMTTYPE=image/jpeg:https://bigcottonwoodstake.com/wp-content/uploads/2023/05/seminarygrad-1.jpg
END:VEVENT
BEGIN:VEVENT
DTSTART;TZID=UTC:20230429T080000
DTEND;TZID=UTC:20230429T120000
DTSTAMP:20260423T153019
CREATED:20230421T005145Z
LAST-MODIFIED:20230421T005145Z
UID:3804-1682755200-1682769600@bigcottonwoodstake.com
SUMMARY:Trek Event
DESCRIPTION:It’s time to get into Trek shape! Sat April 29th we are hiking/walking the Bonneville Shoreline Trail to “This Is The Place” starting at the school (Eastwood Elem. 3305 S Wasatch Blvd at 8:00 AM. \n\nHave breakfast before at home.\nBring a water bottle.\nWe will have Jimmy John’s for lunch at the park.\nBring your friends and have a great time!\n\nWear your shoes that you will be using for trek!! It’s going to be about 5 miles.
URL:https://bigcottonwoodstake.com/event/trek-event/
CATEGORIES:Youth Events
ATTACH;FMTTYPE=image/png:https://bigcottonwoodstake.com/wp-content/uploads/2023/04/trek-hike.png
END:VEVENT
BEGIN:VEVENT
DTSTART;TZID=UTC:20230416T183000
DTEND;TZID=UTC:20230416T193000
DTSTAMP:20260423T153019
CREATED:20230310T100305Z
LAST-MODIFIED:20230310T100909Z
UID:3529-1681669800-1681673400@bigcottonwoodstake.com
SUMMARY:Women at the Well
DESCRIPTION:A musical fireside about the women in the New Testament. April 16\, 2023 @6:30 PM. 1830 East 6400 South\, Murray\, UT 84121. Come enjoy an uplifting evening of music and testimony about the life of Jesus Christ through the eyes of the women He influenced.
URL:https://bigcottonwoodstake.com/event/women-at-the-well/
LOCATION:1830 East 6400 South Murray\, UT
CATEGORIES:Stake Events,Youth Events
ATTACH;FMTTYPE=image/jpeg:https://bigcottonwoodstake.com/wp-content/uploads/2023/03/Women-at-the-well.jpg
END:VEVENT
BEGIN:VEVENT
DTSTART;TZID=UTC:20230308T183000
DTEND;TZID=UTC:20230308T200000
DTSTAMP:20260423T153019
CREATED:20230219T025030Z
LAST-MODIFIED:20230219T025030Z
UID:3418-1678300200-1678305600@bigcottonwoodstake.com
SUMMARY:Trek Kickoff
DESCRIPTION:Come join us to watch 17 Miracles. Wednesday\, March 8th\, 6:30 pm at the Stake Center. For youth\, parents\, and leaders.
URL:https://bigcottonwoodstake.com/event/trek-kickoff/
LOCATION:Stake Center\, 1750 Spring Lane\, Holladay\, UT
CATEGORIES:Stake Events,Youth Events
ATTACH;FMTTYPE=image/jpeg:https://bigcottonwoodstake.com/wp-content/uploads/2023/01/trek_kickoff.jpg
END:VEVENT
BEGIN:VEVENT
DTSTART;TZID=UTC:20230222T190000
DTEND;TZID=UTC:20230222T210000
DTSTAMP:20260423T153019
CREATED:20230123T104351Z
LAST-MODIFIED:20230224T110458Z
UID:3347-1677092400-1677099600@bigcottonwoodstake.com
SUMMARY:Multi-Stake Pickleball Tournament
DESCRIPTION:WHEN AND WHERE? \nWednesday\, February 22 @ 7pm \nPick your teammate\, playing level\, and sign up! \nBeginner Clinic\nI don’t know what pickleball but would like to learn\n1250 East 4800 South \nNovice Tournament\nI’ve played a few times but am still figuring out the rules\n1830 East 6400 South \nIntermediate Tournament I’ve played 10+ times\, and mostly know how to keep score\n1750 East Spring Lane \nAdvanced Tournament\nI play regularly and enjoy competitive games 1160 East Vine Street \n\n\n\n  \nSIGN UP \nhttps://docs.google.com/forms/d/e/1FAIpQLScKzdC5D9blD7iQ3YFXjSPwzXvamTOGhqT4SOS42Z0FLS69Lg/viewform
URL:https://bigcottonwoodstake.com/event/youth-pickleball-tournament/
CATEGORIES:Youth Events
ATTACH;FMTTYPE=image/jpeg:https://bigcottonwoodstake.com/wp-content/uploads/2023/01/Pickleball-Flyer-2.jpg
END:VEVENT
BEGIN:VEVENT
DTSTART;VALUE=DATE:20230127
DTEND;VALUE=DATE:20230129
DTSTAMP:20260423T153019
CREATED:20230119T120904Z
LAST-MODIFIED:20230123T110942Z
UID:3321-1674777600-1674950399@bigcottonwoodstake.com
SUMMARY:Priests High Adventure Overnighter
DESCRIPTION:The 2nd annual Priest’s winter adventure will be held on January 27-28th at the Coates’ Cabin in Heber City\, UT. Meet at the Donelson Chapel @ 3:30 PM on the 27th to start the adventure! \n \n  \n  \n  \n  \n  \n  \n  \n  \n  \n  \n  \n  \n  \n  \n  \nPermission Forms: \nparental-permission-medical-release \npolar plunge permission
URL:https://bigcottonwoodstake.com/event/priests-high-adventure-overnighter/
CATEGORIES:Stake Events,Youth Events
ATTACH;FMTTYPE=image/jpeg:https://bigcottonwoodstake.com/wp-content/uploads/2023/01/IMG_0082-2.jpeg
END:VEVENT
END:VCALENDAR