BEGIN:VCALENDAR
VERSION:2.0
PRODID:-//Big Cottonwood Stake - ECPv6.15.11//NONSGML v1.0//EN
CALSCALE:GREGORIAN
METHOD:PUBLISH
X-ORIGINAL-URL:https://bigcottonwoodstake.com
X-WR-CALDESC:Events for Big Cottonwood Stake
REFRESH-INTERVAL;VALUE=DURATION:PT1H
X-Robots-Tag:noindex
X-PUBLISHED-TTL:PT1H
BEGIN:VTIMEZONE
TZID:America/Denver
BEGIN:DAYLIGHT
TZOFFSETFROM:-0700
TZOFFSETTO:-0600
TZNAME:MDT
DTSTART:20230312T090000
END:DAYLIGHT
BEGIN:STANDARD
TZOFFSETFROM:-0600
TZOFFSETTO:-0700
TZNAME:MST
DTSTART:20231105T080000
END:STANDARD
BEGIN:DAYLIGHT
TZOFFSETFROM:-0700
TZOFFSETTO:-0600
TZNAME:MDT
DTSTART:20240310T090000
END:DAYLIGHT
BEGIN:STANDARD
TZOFFSETFROM:-0600
TZOFFSETTO:-0700
TZNAME:MST
DTSTART:20241103T080000
END:STANDARD
BEGIN:DAYLIGHT
TZOFFSETFROM:-0700
TZOFFSETTO:-0600
TZNAME:MDT
DTSTART:20250309T090000
END:DAYLIGHT
BEGIN:STANDARD
TZOFFSETFROM:-0600
TZOFFSETTO:-0700
TZNAME:MST
DTSTART:20251102T080000
END:STANDARD
BEGIN:DAYLIGHT
TZOFFSETFROM:-0700
TZOFFSETTO:-0600
TZNAME:MDT
DTSTART:20260308T090000
END:DAYLIGHT
BEGIN:STANDARD
TZOFFSETFROM:-0600
TZOFFSETTO:-0700
TZNAME:MST
DTSTART:20261101T080000
END:STANDARD
BEGIN:DAYLIGHT
TZOFFSETFROM:-0700
TZOFFSETTO:-0600
TZNAME:MDT
DTSTART:20270314T090000
END:DAYLIGHT
BEGIN:STANDARD
TZOFFSETFROM:-0600
TZOFFSETTO:-0700
TZNAME:MST
DTSTART:20271107T080000
END:STANDARD
END:VTIMEZONE
BEGIN:VEVENT
DTSTART;TZID=America/Denver:20240505T190000
DTEND;TZID=America/Denver:20240505T200000
DTSTAMP:20260425T105733
CREATED:20240424T182815Z
LAST-MODIFIED:20240424T182815Z
UID:4167-1714935600-1714939200@bigcottonwoodstake.com
SUMMARY:Cinco De Mayo Sunday Social
DESCRIPTION:May 5th. Inviting the Spirit into your everyday life. Nacho Bar and Refreshments. At the Stake Pavilion weather permitting. 7:00 PM
URL:https://bigcottonwoodstake.com/event/cinco-de-mayo-sunday-social/
CATEGORIES:Youth Events
ATTACH;FMTTYPE=image/jpeg:https://bigcottonwoodstake.com/wp-content/uploads/2024/04/cincodemayo.jpeg
END:VEVENT
BEGIN:VEVENT
DTSTART;TZID=America/Denver:20240518T080000
DTEND;TZID=America/Denver:20240518T150000
DTSTAMP:20260425T105733
CREATED:20240505T160633Z
LAST-MODIFIED:20240505T160744Z
UID:4176-1716019200-1716044400@bigcottonwoodstake.com
SUMMARY:Day of Service
DESCRIPTION:Join us for a fun day of neighborhood service and friendship. \n8:00 am – 9:30 am Free Chuck Wagon Breakfast \n9:45 am Service Kick Off and Assignments \n10:00 am – 3:00 pm Carry Out Service \nWays to Serve \n\nAssemble Spring Baskets & Care Packages\nCollaboration with the Granite Education Foundation to benefit students throughout the Granite School District\nNeighborhood projects\nGrounds Beautification at Holladay City\, Knudsen Park and Monument Signs\n\nwww.cwhdayofservice.com \n5165 Highland Drive & Donelson Lane
URL:https://bigcottonwoodstake.com/event/day-of-service/
CATEGORIES:Stake Events
ATTACH;FMTTYPE=image/jpeg:https://bigcottonwoodstake.com/wp-content/uploads/2024/05/IMG_8282-scaled.jpg
END:VEVENT
BEGIN:VEVENT
DTSTART;TZID=America/Denver:20240518T190000
DTEND;TZID=America/Denver:20240519T120000
DTSTAMP:20260425T105733
CREATED:20240504T074218Z
LAST-MODIFIED:20240504T074218Z
UID:4172-1716058800-1716120000@bigcottonwoodstake.com
SUMMARY:Stake Conference
DESCRIPTION:Big Cottonwood Stake invites you\, your neighbors and friends to join us for Stake Conference. Adult session Saturday\, May 18. 7:00 PM. General Session Sunday\, May 19. 10:00 AM. 1750 E Spring Lane. All Stake Members are encouraged to attend the temple sometime during the week prior to Stake Conference. Limited Zoom access available. Please contact your Bishop for more details
URL:https://bigcottonwoodstake.com/event/stake-conference-3/
CATEGORIES:Stake Events
ATTACH;FMTTYPE=image/png:https://bigcottonwoodstake.com/wp-content/uploads/2024/05/Stake-Conference-May-2024-Flyer.png
END:VEVENT
BEGIN:VEVENT
DTSTART;TZID=America/Denver:20240519T190000
DTEND;TZID=America/Denver:20240519T210000
DTSTAMP:20260425T105733
CREATED:20240412T164000Z
LAST-MODIFIED:20240412T164000Z
UID:4162-1716145200-1716152400@bigcottonwoodstake.com
SUMMARY:Seminary Graduation
DESCRIPTION:South Cottonwood\, Little Cottonwood\, Big Cottonwood\, and Cottonwood Stakes Seminary Graduation & Recognition 2024. Sunday May 19\, 2024 at 7:00 PM. Cottonwood Stake Center 1830 E 6400 S. Church dress\, refreshments to follow. For seminary students\, families\, and friends.
URL:https://bigcottonwoodstake.com/event/seminary-graduation-2/
CATEGORIES:Stake Events,Youth Events
ATTACH;FMTTYPE=image/png:https://bigcottonwoodstake.com/wp-content/uploads/2024/04/56D6D510-3148-476B-AB36-A0653B3474AC.png
END:VEVENT
BEGIN:VEVENT
DTSTART;VALUE=DATE:20240727
DTEND;VALUE=DATE:20240728
DTSTAMP:20260425T105733
CREATED:20240713T033535Z
LAST-MODIFIED:20240713T033535Z
UID:4183-1722038400-1722124799@bigcottonwoodstake.com
SUMMARY:Stake Pickleball Tournament
DESCRIPTION:2nd Annual Big Cottonwood Stake Pickleball Tournament. Ages 12+. Doubles Tournament. Saturday July 27 at Club Pickleball USA in Midvale (7037 High Tech Dr) For more info and to register\, scan the QR code or call/text Matt Nielson from the High Council. 801-696-9975
URL:https://bigcottonwoodstake.com/event/stake-pickleball-tournament-2/
CATEGORIES:Stake Events,Youth Events
ATTACH;FMTTYPE=image/jpeg:https://bigcottonwoodstake.com/wp-content/uploads/2024/07/IMG_5839.jpg
END:VEVENT
BEGIN:VEVENT
DTSTART;TZID=America/Denver:20240819T170000
DTEND;TZID=America/Denver:20240819T200000
DTSTAMP:20260425T105733
CREATED:20240718T041934Z
LAST-MODIFIED:20240718T042025Z
UID:4187-1724086800-1724097600@bigcottonwoodstake.com
SUMMARY:Summer Pool Party
DESCRIPTION:If you’re a Millennial… or Millennial-ish (20’s-40’s) — you’re invited to a Summer Pool Party! August 19th starting at 5 pm at 5348 S Cottonwood Lane.\n\n*Come enjoy a fun evening and get to know your neighbors with a BBQ picnic\, pickleball\, swimming pool\, and more! Kids are welcome\, bring your own towels and a blanket if you want to hang out on the grass.\n\n*Check the map for the most convenient parking information and directions to get to the party.  Stroller access only available with limited parking on Cottonwood Lane.
URL:https://bigcottonwoodstake.com/event/summer-pool-party/
LOCATION:5348 South Cottonwood Lane
ATTACH;FMTTYPE=image/png:https://bigcottonwoodstake.com/wp-content/uploads/2024/07/1_20240715_221457_0000.png
END:VEVENT
BEGIN:VEVENT
DTSTART;TZID=America/Denver:20240824T180000
DTEND;TZID=America/Denver:20240824T190000
DTSTAMP:20260425T105733
CREATED:20240818T042717Z
LAST-MODIFIED:20240818T042717Z
UID:4197-1724522400-1724526000@bigcottonwoodstake.com
SUMMARY:Youth Fireside
DESCRIPTION:Please join us for a youth fireside with Elder Rasband and Emily Belle Freeman. Saturday\, August 24\, 2024 at 6 PM. 4917 S Viewmont Street\, Holladay\, UT 841117. Sunday Dress.
URL:https://bigcottonwoodstake.com/event/youth-fireside/
CATEGORIES:Stake Events,Youth Events
ATTACH;FMTTYPE=image/jpeg:https://bigcottonwoodstake.com/wp-content/uploads/2024/08/IMG_5005.jpeg
END:VEVENT
BEGIN:VEVENT
DTSTART;VALUE=DATE:20240907
DTEND;VALUE=DATE:20240908
DTSTAMP:20260425T105733
CREATED:20240901T171220Z
LAST-MODIFIED:20240901T171404Z
UID:4308-1725667200-1725753599@bigcottonwoodstake.com
SUMMARY:My Hometown Day of Service
DESCRIPTION:Come join with my Hometown Northwest for the National Day of Service. Saturday\, September 7\, 2024 \nSign up here! \n 
URL:https://bigcottonwoodstake.com/event/my-hometown-day-of-service/
ATTACH;FMTTYPE=image/jpeg:https://bigcottonwoodstake.com/wp-content/uploads/2024/09/DAY-OF-SERVICE-Sept-7-English.jpeg
END:VEVENT
BEGIN:VEVENT
DTSTART;TZID=America/Denver:20241024T190000
DTEND;TZID=America/Denver:20241024T210000
DTSTAMP:20260425T105733
CREATED:20241010T033123Z
LAST-MODIFIED:20241010T033123Z
UID:4338-1729796400-1729803600@bigcottonwoodstake.com
SUMMARY:SNAP & Youth Halloween Dance
DESCRIPTION:October 24\, 7:00 PM. Stake Center. Come dressed in your favorite Halloween costumes (no masks and nothing that will spook our SNAP friends).
URL:https://bigcottonwoodstake.com/event/snap-youth-halloween-dance/
CATEGORIES:Youth Events
ATTACH;FMTTYPE=image/png:https://bigcottonwoodstake.com/wp-content/uploads/2024/10/10A7ED55-5E3B-4377-BABD-BE1ED5C6018B.png
END:VEVENT
BEGIN:VEVENT
DTSTART;TZID=America/Denver:20241108T180000
DTEND;TZID=America/Denver:20241108T180000
DTSTAMP:20260425T105733
CREATED:20241027T050231Z
LAST-MODIFIED:20241027T050231Z
UID:4342-1731088800-1731088800@bigcottonwoodstake.com
SUMMARY:Millennials Temple Night
DESCRIPTION:Big Cottonwood Stake Millennials Temple Night at the Taylorsville Utah Temple. Nov 8th at 6:00 PM. Free Babysitting at the Stake Center starting at 5:00 PM. Refreshments Served Afterwards. RSVP 801-819-6035. Scan the QR code to reserve your temple appointment.
URL:https://bigcottonwoodstake.com/event/millennials-temple-night/
CATEGORIES:Stake Events
ATTACH;FMTTYPE=image/jpeg:https://bigcottonwoodstake.com/wp-content/uploads/2024/10/IMG_6246.jpeg
END:VEVENT
BEGIN:VEVENT
DTSTART;TZID=America/Denver:20241109T180000
DTEND;TZID=America/Denver:20241110T100000
DTSTAMP:20260425T105733
CREATED:20241027T050649Z
LAST-MODIFIED:20241027T050649Z
UID:4346-1731175200-1731232800@bigcottonwoodstake.com
SUMMARY:Stake Conference
DESCRIPTION:Big Cottonwood Stake invites you\, your neighbors and friends to join us for Stake Conference. Adult Session Saturday\, Nov 9th 6:00 PM. General Session Sunday\, Nov 10th 10:00 AM. 1750 E Spring Lane. Elder John W. Boswell presiding area seventy. All Stake Members are encouraged to attend the Temple sometime during the week prior to Stake Conference. Zoom meeting ID: 934 0245 1595
URL:https://bigcottonwoodstake.com/event/stake-conference-4/
CATEGORIES:Stake Events
ATTACH;FMTTYPE=image/jpeg:https://bigcottonwoodstake.com/wp-content/uploads/2024/10/IMG_7141.jpeg
END:VEVENT
BEGIN:VEVENT
DTSTART;TZID=America/Denver:20241117T190000
DTEND;TZID=America/Denver:20241117T210000
DTSTAMP:20260425T105733
CREATED:20241104T210322Z
LAST-MODIFIED:20241104T210322Z
UID:4350-1731870000-1731877200@bigcottonwoodstake.com
SUMMARY:Interfaith Thanksgiving Service
DESCRIPTION:25TH ANNUAL 2024 HOLLADAY \nInterfaith Thanksgiving Service \nSun\, Nov 17@7pm \nOLYMPUS JR. HIGH SCHOOL\n2217 E MURRAY HOLLADAY ROAD \nPresentation of the Colors \nUnified Fire Authority Pipes And Drums\nand Unified Police Department Color Guard \nMusical Performances \nAmanda and Isaac Hale\, bassoonist and cellist Interfaith Choir\, directed by Sue Hagen \nKeynote Speaker \nDavid and Connor O’Leary\, cancer survivors and father-son winners of Season 24\nof the Amazing Race \nYouth Speaker \nMohammad Hameed\, BYU student
URL:https://bigcottonwoodstake.com/event/interfaith-thanksgiving-service/
ATTACH;FMTTYPE=image/jpeg:https://bigcottonwoodstake.com/wp-content/uploads/2024/11/Interfaith-Thanksgiving-8.5-x-11-in-Letter.jpg
END:VEVENT
BEGIN:VEVENT
DTSTART;VALUE=DATE:20250218
DTEND;VALUE=DATE:20250219
DTSTAMP:20260425T105733
CREATED:20250214T043322Z
LAST-MODIFIED:20250330T034812Z
UID:4358-1739836800-1739923199@bigcottonwoodstake.com
SUMMARY:Self-Reliance Courses
DESCRIPTION:Big Cottonwood Stake Self-Reliance Courses beginning Tues\, Feb 18. Emotional Resilience Finding Strength in the Lord. Tuesdays 7-8:30 pm. Personal Finances for Self Reliance Tuesdays\, 6:30-8pm Stake Center (Rm 110). Please RSVP to Chad Evans Call or Text (801) 232-5979
URL:https://bigcottonwoodstake.com/event/self-reliance-courses/
ATTACH;FMTTYPE=image/jpeg:https://bigcottonwoodstake.com/wp-content/uploads/2025/02/Self-Reliance-Flyer-Invitation.jpg
END:VEVENT
BEGIN:VEVENT
DTSTART;TZID=America/Denver:20250420T100000
DTEND;TZID=America/Denver:20250420T110000
DTSTAMP:20260425T105733
CREATED:20250330T034625Z
LAST-MODIFIED:20250417T002201Z
UID:4374-1745143200-1745146800@bigcottonwoodstake.com
SUMMARY:Easter Service
DESCRIPTION:JOIN US IN CELEBRATING THE RESURRECTION OF CHRIST THROUGH MUSIC \nSUNDAY\, APRIL 20 AT 10:00 AM \n1750 E SPRING LANE \nZoom Meeting ID: 942 7133 3299 \nDial in: (564) 217-2000 \nhttps://zoom.us/j/94271333299
URL:https://bigcottonwoodstake.com/event/easter-service/
ATTACH;FMTTYPE=image/jpeg:https://bigcottonwoodstake.com/wp-content/uploads/2025/03/Easter-Flyer-1.jpg
END:VEVENT
BEGIN:VEVENT
DTSTART;TZID=America/Denver:20250518T180000
DTEND;TZID=America/Denver:20250518T190000
DTSTAMP:20260425T105733
CREATED:20250207T032746Z
LAST-MODIFIED:20250322T030835Z
UID:4354-1747591200-1747594800@bigcottonwoodstake.com
SUMMARY:Seminary Graduation & Recognition 2025
DESCRIPTION:Cottonwood Creek\, Big Cottonwood\, and Cottonwood Stakes Seminary Graduation & Recognition 2025. Sunday\, May 18\, 2025. 6:00 PM. Cottonwood Stake Center. 1830 E 6400 S. Church Dress | Refreshments to follow | For seminary students\, families\, and friends.
URL:https://bigcottonwoodstake.com/event/seminary-graduation-recognition-2025/
CATEGORIES:Stake Events
ATTACH;FMTTYPE=image/jpeg:https://bigcottonwoodstake.com/wp-content/uploads/2025/02/Seminary-Graduation-Invite-3-1.jpg
END:VEVENT
BEGIN:VEVENT
DTSTART;VALUE=DATE:20250531
DTEND;VALUE=DATE:20250601
DTSTAMP:20260425T105733
CREATED:20250510T024014Z
LAST-MODIFIED:20250510T024202Z
UID:4394-1748649600-1748735999@bigcottonwoodstake.com
SUMMARY:Neighborhood Day of Service
DESCRIPTION:Join Us for a Fun Day of Neighborhood Service & Friendship. May 31\, 2025. 8:00 AM – 9:30 AM Chuck Wagon Breakfast. 9:45 AM Service Kick Off & Assignments. 10:00 AM – 3:00 PM Carry out service.
URL:https://bigcottonwoodstake.com/event/neighborhood-day-of-service-3/
CATEGORIES:Stake Events
ATTACH;FMTTYPE=image/jpeg:https://bigcottonwoodstake.com/wp-content/uploads/2025/05/2025-Day-of-Service-Flyer-scaled.jpeg
END:VEVENT
BEGIN:VEVENT
DTSTART;VALUE=DATE:20250531
DTEND;VALUE=DATE:20250602
DTSTAMP:20260425T105733
CREATED:20250514T021347Z
LAST-MODIFIED:20250514T021451Z
UID:4397-1748649600-1748822399@bigcottonwoodstake.com
SUMMARY:Stake Conference
DESCRIPTION:BIG COTTONWOOD STAKE invites you\, your neighbors and friends to join us for Stake Conference \nADULT SESSION \nSATURDAY. MAY 31st \n6:00 P.M. \nGENERAL SESSION \nSUNDAY\, JUNE 1st \n10:00 A.M. \n1750 E. Spring Lane \nAll Stake Members are invited to attend the Temple sometime during the week prior to stake conference \nIn person attendance encouraged. Zoom ID: 916 6248 6627
URL:https://bigcottonwoodstake.com/event/stake-conference-5/
ATTACH;FMTTYPE=image/jpeg:https://bigcottonwoodstake.com/wp-content/uploads/2025/05/IMG_2283.jpeg
END:VEVENT
BEGIN:VEVENT
DTSTART;VALUE=DATE:20250605
DTEND;VALUE=DATE:20250608
DTSTAMP:20260425T105733
CREATED:20250316T033818Z
LAST-MODIFIED:20250325T024344Z
UID:4364-1749081600-1749340799@bigcottonwoodstake.com
SUMMARY:2025 Youth Conference
DESCRIPTION:June 5-7. Moab\, Utah. \nAll youth in YW/M program invited. \nREGISTRATION STARTS MARCH 23RD \nStand in awe at dead horse point\, serve others through meaningful work\, conquer river rapids as a team\, and explore breathtaking trails on an unforgettable hike! \nThis is more than a youth conference– it’s a call to adventure\, a chance to participate in the gathering of Israel\, and a reminder that you are never alone in the Lord’s Youth Battalion. \nLINKS: \nMedical Release Form \nPresident Nelson Devotional\, “Hope of Israel” \nBorn to Change the World Book Links: Amazon\, Deseret Book \nFAQ \nPacking List \nParent Youth Schedule
URL:https://bigcottonwoodstake.com/event/2025-youth-conference/
ATTACH;FMTTYPE=image/jpeg:https://bigcottonwoodstake.com/wp-content/uploads/2025/03/IMG_3986.jpeg
END:VEVENT
BEGIN:VEVENT
DTSTART;VALUE=DATE:20250731
DTEND;VALUE=DATE:20250803
DTSTAMP:20260425T105733
CREATED:20250422T224211Z
LAST-MODIFIED:20250721T025106Z
UID:4385-1753920000-1754179199@bigcottonwoodstake.com
SUMMARY:Climb Kings Peak
DESCRIPTION:Who: YW & YM Ages 14 and older in 2025 \nDate: July 31 – Aug 2\, 2025 \nTraining Hikes: Mt. Olympus – June 25th\, Mt Timpanogos – July 9th \nContact Carlie Lowe 801-580-0770 \n \nGeneral Information \nPermission and Medical Release Form \nPacking List \n  \n       
URL:https://bigcottonwoodstake.com/event/climb-kings-peak/
CATEGORIES:Youth Events
ATTACH;FMTTYPE=image/png:https://bigcottonwoodstake.com/wp-content/uploads/2025/04/ChatGPT-Image-Apr-22-2025-at-02_21_51-PM.png
END:VEVENT
BEGIN:VEVENT
DTSTART;TZID=America/Denver:20250917T170000
DTEND;TZID=America/Denver:20250917T190000
DTSTAMP:20260425T105733
CREATED:20250830T205140Z
LAST-MODIFIED:20250831T160637Z
UID:4425-1758128400-1758135600@bigcottonwoodstake.com
SUMMARY:Neighborhood Pool Party
DESCRIPTION:Join us for a BBQ and pool party! September 17th\, 5 PM. Nadauld Residence 5348 South Cottonwood Lane. Families Welcome! \nPlease park at the Donelson building and follow the signs to President Nadauld’s home. \nPlease fill out this form to let us know you will attend
URL:https://bigcottonwoodstake.com/event/neighborhood-pool-party/
ATTACH;FMTTYPE=image/jpeg:https://bigcottonwoodstake.com/wp-content/uploads/2025/08/Poll-Party.jpg
END:VEVENT
BEGIN:VEVENT
DTSTART;TZID=America/Denver:20251115T190000
DTEND;TZID=America/Denver:20251116T100000
DTSTAMP:20260425T105733
CREATED:20251030T042128Z
LAST-MODIFIED:20251030T042128Z
UID:4449-1763233200-1763287200@bigcottonwoodstake.com
SUMMARY:Stake Conference
DESCRIPTION:Big Cottonwood Stake invites you\, your neighbors and friends to join us for Stake Conference. Adult Session Saturday\, Nov 15\, 7:00 PM. General Session Sunday\, Nov 16\, 10:00 AM. Visiting general authority seventy Elder Jorge T. Becerra. 1750 E Spring Lane. Zoom ID: 977 5149 9357
URL:https://bigcottonwoodstake.com/event/stake-conference-6/
CATEGORIES:Stake Events
ATTACH;FMTTYPE=image/jpeg:https://bigcottonwoodstake.com/wp-content/uploads/2025/10/IMG_4983.jpeg
END:VEVENT
BEGIN:VEVENT
DTSTART;VALUE=DATE:20260201
DTEND;VALUE=DATE:20260427
DTSTAMP:20260425T105733
CREATED:20260104T025248Z
LAST-MODIFIED:20260107T191029Z
UID:4467-1769904000-1777247999@bigcottonwoodstake.com
SUMMARY:Self Reliance Course - Personal Finance
DESCRIPTION:Sundays at 2:30 – 4:00 PM\nAt the 4th Ward Building: 5565 South Neighbor Lane\nFebruary 1\, 2026 – April 26\, 2026\nFacilitator:  Scott Wilson from the 4th Ward\nRegister HERE
URL:https://bigcottonwoodstake.com/event/self-reliance-course-personal-finance/
CATEGORIES:Stake Events
ATTACH;FMTTYPE=image/jpeg:https://bigcottonwoodstake.com/wp-content/uploads/2026/01/Personal-Finance-3.jpg
END:VEVENT
BEGIN:VEVENT
DTSTART;VALUE=DATE:20260203
DTEND;VALUE=DATE:20260415
DTSTAMP:20260425T105733
CREATED:20260104T024147Z
LAST-MODIFIED:20260104T024147Z
UID:4464-1770076800-1776211199@bigcottonwoodstake.com
SUMMARY:Self Reliance Course - Emotional Resilience
DESCRIPTION:Tuesdays at 7:00 – 8:30 PM\nAt the Stake Center: 1750 East Spring Lane\nFebruary 3\, 2026 – April 14\, 2026\nFacilitators are:  Carol and Bill Gordon from the 10th Ward\nRegister HERE
URL:https://bigcottonwoodstake.com/event/self-reliance-course-emotional-resilience/
CATEGORIES:Stake Events
ATTACH;FMTTYPE=image/jpeg:https://bigcottonwoodstake.com/wp-content/uploads/2026/01/Emotional.jpg
END:VEVENT
BEGIN:VEVENT
DTSTART;TZID=America/Denver:20260315T133000
DTEND;TZID=America/Denver:20260315T143000
DTSTAMP:20260425T105733
CREATED:20260313T184420Z
LAST-MODIFIED:20260313T184420Z
UID:4497-1773581400-1773585000@bigcottonwoodstake.com
SUMMARY:Stake YM & YW High Adventure Race Information Meeting
DESCRIPTION:Join us to learn more about the high adventure race\, form teams to participate\, answer your questions. \n 
URL:https://bigcottonwoodstake.com/event/stake-ym-yw-high-adventure-race-information-meeting/
CATEGORIES:Stake Events,Youth Events
ATTACH;FMTTYPE=image/jpeg:https://bigcottonwoodstake.com/wp-content/uploads/2026/03/StakeHAFlyer-1.jpeg
END:VEVENT
BEGIN:VEVENT
DTSTART;TZID=America/Denver:20260329T100000
DTEND;TZID=America/Denver:20260329T110000
DTSTAMP:20260425T105733
CREATED:20260313T183916Z
LAST-MODIFIED:20260313T183916Z
UID:4494-1774778400-1774782000@bigcottonwoodstake.com
SUMMARY:Easter Sacrament Service
DESCRIPTION:Join us in celebrating the resurrection of Christ through music. \nIn person – Sunday\, March 29th at 10 AM. 1750 E Spring Lane \nZoom – Dial in: (719) 359-4580. Meeting ID: 997 5083 3029 \nor scan QR code
URL:https://bigcottonwoodstake.com/event/easter-sacrament-service-2/
ATTACH;FMTTYPE=image/png:https://bigcottonwoodstake.com/wp-content/uploads/2026/03/IMG_0998.png
END:VEVENT
BEGIN:VEVENT
DTSTART;TZID=America/Denver:20260426T180000
DTEND;TZID=America/Denver:20260426T190000
DTSTAMP:20260425T105733
CREATED:20260407T035454Z
LAST-MODIFIED:20260407T035454Z
UID:4505-1777226400-1777230000@bigcottonwoodstake.com
SUMMARY:Interfaith Gathering
DESCRIPTION:2026 Interfaith Gathering. Sacred Music Evening. An evening of music\, dance\, choirs\, and more! Sunday April 26\, Salt Lake Tabernacle\, 6 PM. No tickets necessary\, All welcome and something for all ages! Bring the entire family! \nfind more information at interfaithroundtable.org
URL:https://bigcottonwoodstake.com/event/interfaith-gathering/
ATTACH;FMTTYPE=image/jpeg:https://bigcottonwoodstake.com/wp-content/uploads/2026/04/2026-04-26-Sacred-Music-Evening-Poster.jpg
END:VEVENT
BEGIN:VEVENT
DTSTART;TZID=America/Denver:20260503T190000
DTEND;TZID=America/Denver:20260503T210000
DTSTAMP:20260425T105733
CREATED:20260414T184529Z
LAST-MODIFIED:20260414T184529Z
UID:4509-1777834800-1777842000@bigcottonwoodstake.com
SUMMARY:Interfaith Choral Festival
DESCRIPTION:Jubilate presents: An Interfaith Choral Festival. Sunday May 3\, 2026. 7:00 PM. Big Cottonwood LDS Stake Center – 1750 E Spring Lane. Guest Ensembles – Cache Valley Interfaith Choir\, Utah Valley Interfaith Choir.
URL:https://bigcottonwoodstake.com/event/interfaith-choral-festival/
ATTACH;FMTTYPE=image/jpeg:https://bigcottonwoodstake.com/wp-content/uploads/2026/04/2026-Interfaith-Concert-Flier.jpg
END:VEVENT
BEGIN:VEVENT
DTSTART;VALUE=DATE:20260608
DTEND;VALUE=DATE:20260611
DTSTAMP:20260425T105733
CREATED:20260414T185259Z
LAST-MODIFIED:20260414T185445Z
UID:4514-1780876800-1781135999@bigcottonwoodstake.com
SUMMARY:Stake Young Women's Camp
DESCRIPTION:Stake Young Women’s camp @ Reid Ranch. June 8-10\, 2026. Registration Deadline May 8th. Theme: Peace in Christ \nMedical Release Form \nMore information on Reid Ranch: https://reidranch.com
URL:https://bigcottonwoodstake.com/event/stake-young-womens-camp/
ATTACH;FMTTYPE=image/png:https://bigcottonwoodstake.com/wp-content/uploads/2026/04/FD57466B-508D-401E-8D04-F95C8C60ACC7-2.png
END:VEVENT
END:VCALENDAR