BEGIN:VCALENDAR
VERSION:2.0
PRODID:-//Big Cottonwood Stake - ECPv6.15.11//NONSGML v1.0//EN
CALSCALE:GREGORIAN
METHOD:PUBLISH
X-ORIGINAL-URL:https://bigcottonwoodstake.com
X-WR-CALDESC:Events for Big Cottonwood Stake
REFRESH-INTERVAL;VALUE=DURATION:PT1H
X-Robots-Tag:noindex
X-PUBLISHED-TTL:PT1H
BEGIN:VTIMEZONE
TZID:America/Denver
BEGIN:DAYLIGHT
TZOFFSETFROM:-0700
TZOFFSETTO:-0600
TZNAME:MDT
DTSTART:20220313T090000
END:DAYLIGHT
BEGIN:STANDARD
TZOFFSETFROM:-0600
TZOFFSETTO:-0700
TZNAME:MST
DTSTART:20221106T080000
END:STANDARD
BEGIN:DAYLIGHT
TZOFFSETFROM:-0700
TZOFFSETTO:-0600
TZNAME:MDT
DTSTART:20230312T090000
END:DAYLIGHT
BEGIN:STANDARD
TZOFFSETFROM:-0600
TZOFFSETTO:-0700
TZNAME:MST
DTSTART:20231105T080000
END:STANDARD
BEGIN:DAYLIGHT
TZOFFSETFROM:-0700
TZOFFSETTO:-0600
TZNAME:MDT
DTSTART:20240310T090000
END:DAYLIGHT
BEGIN:STANDARD
TZOFFSETFROM:-0600
TZOFFSETTO:-0700
TZNAME:MST
DTSTART:20241103T080000
END:STANDARD
END:VTIMEZONE
BEGIN:VEVENT
DTSTART;TZID=America/Denver:20230708T090000
DTEND;TZID=America/Denver:20230708T140000
DTSTAMP:20260425T220626
CREATED:20230629T031535Z
LAST-MODIFIED:20230629T031535Z
UID:3977-1688806800-1688824800@bigcottonwoodstake.com
SUMMARY:Stake Pickleball Tournament
DESCRIPTION:Stake pickleball tournament Saturday July 8th. 9:00 am – 2:00 p.m. at the Stake Center. This is a doubles pickleball tournament. Grab a partner and enter the double elimination tournament. Ages 12 and up. The tournament is one open bracket with mens teams\, womens teams\, coed teams\, youth teams\, etc. Friends\, family\, neighbors  are all eligible. Winners will advance to the first ever region pickleball Championship the following Saturday on July 15th. Please email Matt: mattnielsonrealtor@gmail.com to get your team in. Or call 801 696-9975
URL:https://bigcottonwoodstake.com/event/stake-pickleball-tournament/
CATEGORIES:Stake Events
END:VEVENT
END:VCALENDAR