BEGIN:VCALENDAR
VERSION:2.0
PRODID:-//Big Cottonwood Stake - ECPv6.15.11//NONSGML v1.0//EN
CALSCALE:GREGORIAN
METHOD:PUBLISH
X-WR-CALNAME:Big Cottonwood Stake
X-ORIGINAL-URL:https://bigcottonwoodstake.com
X-WR-CALDESC:Events for Big Cottonwood Stake
REFRESH-INTERVAL;VALUE=DURATION:PT1H
X-Robots-Tag:noindex
X-PUBLISHED-TTL:PT1H
BEGIN:VTIMEZONE
TZID:America/Denver
BEGIN:DAYLIGHT
TZOFFSETFROM:-0700
TZOFFSETTO:-0600
TZNAME:MDT
DTSTART:20230312T090000
END:DAYLIGHT
BEGIN:STANDARD
TZOFFSETFROM:-0600
TZOFFSETTO:-0700
TZNAME:MST
DTSTART:20231105T080000
END:STANDARD
BEGIN:DAYLIGHT
TZOFFSETFROM:-0700
TZOFFSETTO:-0600
TZNAME:MDT
DTSTART:20240310T090000
END:DAYLIGHT
BEGIN:STANDARD
TZOFFSETFROM:-0600
TZOFFSETTO:-0700
TZNAME:MST
DTSTART:20241103T080000
END:STANDARD
BEGIN:DAYLIGHT
TZOFFSETFROM:-0700
TZOFFSETTO:-0600
TZNAME:MDT
DTSTART:20250309T090000
END:DAYLIGHT
BEGIN:STANDARD
TZOFFSETFROM:-0600
TZOFFSETTO:-0700
TZNAME:MST
DTSTART:20251102T080000
END:STANDARD
END:VTIMEZONE
BEGIN:VEVENT
DTSTART;VALUE=DATE:20240727
DTEND;VALUE=DATE:20240728
DTSTAMP:20260425T050203
CREATED:20240713T033535Z
LAST-MODIFIED:20240713T033535Z
UID:4183-1722038400-1722124799@bigcottonwoodstake.com
SUMMARY:Stake Pickleball Tournament
DESCRIPTION:2nd Annual Big Cottonwood Stake Pickleball Tournament. Ages 12+. Doubles Tournament. Saturday July 27 at Club Pickleball USA in Midvale (7037 High Tech Dr) For more info and to register\, scan the QR code or call/text Matt Nielson from the High Council. 801-696-9975
URL:https://bigcottonwoodstake.com/event/stake-pickleball-tournament-2/
CATEGORIES:Stake Events,Youth Events
ATTACH;FMTTYPE=image/jpeg:https://bigcottonwoodstake.com/wp-content/uploads/2024/07/IMG_5839.jpg
END:VEVENT
END:VCALENDAR