BEGIN:VCALENDAR
VERSION:2.0
PRODID:-//Big Cottonwood Stake - ECPv6.15.11//NONSGML v1.0//EN
CALSCALE:GREGORIAN
METHOD:PUBLISH
X-WR-CALNAME:Big Cottonwood Stake
X-ORIGINAL-URL:https://bigcottonwoodstake.com
X-WR-CALDESC:Events for Big Cottonwood Stake
REFRESH-INTERVAL;VALUE=DURATION:PT1H
X-Robots-Tag:noindex
X-PUBLISHED-TTL:PT1H
BEGIN:VTIMEZONE
TZID:America/Denver
BEGIN:DAYLIGHT
TZOFFSETFROM:-0700
TZOFFSETTO:-0600
TZNAME:MDT
DTSTART:20240310T090000
END:DAYLIGHT
BEGIN:STANDARD
TZOFFSETFROM:-0600
TZOFFSETTO:-0700
TZNAME:MST
DTSTART:20241103T080000
END:STANDARD
BEGIN:DAYLIGHT
TZOFFSETFROM:-0700
TZOFFSETTO:-0600
TZNAME:MDT
DTSTART:20250309T090000
END:DAYLIGHT
BEGIN:STANDARD
TZOFFSETFROM:-0600
TZOFFSETTO:-0700
TZNAME:MST
DTSTART:20251102T080000
END:STANDARD
BEGIN:DAYLIGHT
TZOFFSETFROM:-0700
TZOFFSETTO:-0600
TZNAME:MDT
DTSTART:20260308T090000
END:DAYLIGHT
BEGIN:STANDARD
TZOFFSETFROM:-0600
TZOFFSETTO:-0700
TZNAME:MST
DTSTART:20261101T080000
END:STANDARD
END:VTIMEZONE
BEGIN:VEVENT
DTSTART;VALUE=DATE:20250531
DTEND;VALUE=DATE:20250602
DTSTAMP:20260424T124431
CREATED:20250514T021347Z
LAST-MODIFIED:20250514T021451Z
UID:4397-1748649600-1748822399@bigcottonwoodstake.com
SUMMARY:Stake Conference
DESCRIPTION:BIG COTTONWOOD STAKE invites you\, your neighbors and friends to join us for Stake Conference \nADULT SESSION \nSATURDAY. MAY 31st \n6:00 P.M. \nGENERAL SESSION \nSUNDAY\, JUNE 1st \n10:00 A.M. \n1750 E. Spring Lane \nAll Stake Members are invited to attend the Temple sometime during the week prior to stake conference \nIn person attendance encouraged. Zoom ID: 916 6248 6627
URL:https://bigcottonwoodstake.com/event/stake-conference-5/
ATTACH;FMTTYPE=image/jpeg:https://bigcottonwoodstake.com/wp-content/uploads/2025/05/IMG_2283.jpeg
END:VEVENT
BEGIN:VEVENT
DTSTART;VALUE=DATE:20250605
DTEND;VALUE=DATE:20250608
DTSTAMP:20260424T124431
CREATED:20250316T033818Z
LAST-MODIFIED:20250325T024344Z
UID:4364-1749081600-1749340799@bigcottonwoodstake.com
SUMMARY:2025 Youth Conference
DESCRIPTION:June 5-7. Moab\, Utah. \nAll youth in YW/M program invited. \nREGISTRATION STARTS MARCH 23RD \nStand in awe at dead horse point\, serve others through meaningful work\, conquer river rapids as a team\, and explore breathtaking trails on an unforgettable hike! \nThis is more than a youth conference– it’s a call to adventure\, a chance to participate in the gathering of Israel\, and a reminder that you are never alone in the Lord’s Youth Battalion. \nLINKS: \nMedical Release Form \nPresident Nelson Devotional\, “Hope of Israel” \nBorn to Change the World Book Links: Amazon\, Deseret Book \nFAQ \nPacking List \nParent Youth Schedule
URL:https://bigcottonwoodstake.com/event/2025-youth-conference/
ATTACH;FMTTYPE=image/jpeg:https://bigcottonwoodstake.com/wp-content/uploads/2025/03/IMG_3986.jpeg
END:VEVENT
END:VCALENDAR