BEGIN:VCALENDAR
VERSION:2.0
PRODID:-//Big Cottonwood Stake - ECPv6.15.11//NONSGML v1.0//EN
CALSCALE:GREGORIAN
METHOD:PUBLISH
X-WR-CALNAME:Big Cottonwood Stake
X-ORIGINAL-URL:https://bigcottonwoodstake.com
X-WR-CALDESC:Events for Big Cottonwood Stake
REFRESH-INTERVAL;VALUE=DURATION:PT1H
X-Robots-Tag:noindex
X-PUBLISHED-TTL:PT1H
BEGIN:VTIMEZONE
TZID:America/Denver
BEGIN:DAYLIGHT
TZOFFSETFROM:-0700
TZOFFSETTO:-0600
TZNAME:MDT
DTSTART:20250309T090000
END:DAYLIGHT
BEGIN:STANDARD
TZOFFSETFROM:-0600
TZOFFSETTO:-0700
TZNAME:MST
DTSTART:20251102T080000
END:STANDARD
BEGIN:DAYLIGHT
TZOFFSETFROM:-0700
TZOFFSETTO:-0600
TZNAME:MDT
DTSTART:20260308T090000
END:DAYLIGHT
BEGIN:STANDARD
TZOFFSETFROM:-0600
TZOFFSETTO:-0700
TZNAME:MST
DTSTART:20261101T080000
END:STANDARD
BEGIN:DAYLIGHT
TZOFFSETFROM:-0700
TZOFFSETTO:-0600
TZNAME:MDT
DTSTART:20270314T090000
END:DAYLIGHT
BEGIN:STANDARD
TZOFFSETFROM:-0600
TZOFFSETTO:-0700
TZNAME:MST
DTSTART:20271107T080000
END:STANDARD
END:VTIMEZONE
BEGIN:VEVENT
DTSTART;VALUE=DATE:20260608
DTEND;VALUE=DATE:20260611
DTSTAMP:20260424T003537
CREATED:20260414T185259Z
LAST-MODIFIED:20260414T185445Z
UID:4514-1780876800-1781135999@bigcottonwoodstake.com
SUMMARY:Stake Young Women's Camp
DESCRIPTION:Stake Young Women’s camp @ Reid Ranch. June 8-10\, 2026. Registration Deadline May 8th. Theme: Peace in Christ \nMedical Release Form \nMore information on Reid Ranch: https://reidranch.com
URL:https://bigcottonwoodstake.com/event/stake-young-womens-camp/
ATTACH;FMTTYPE=image/png:https://bigcottonwoodstake.com/wp-content/uploads/2026/04/FD57466B-508D-401E-8D04-F95C8C60ACC7-2.png
END:VEVENT
END:VCALENDAR